BEGIN:VCALENDAR
VERSION:2.0
PRODID:-//EmptyPockets.ch - ECPv6.15.20//NONSGML v1.0//EN
CALSCALE:GREGORIAN
METHOD:PUBLISH
X-ORIGINAL-URL:https://old.emptypockets.ch
X-WR-CALDESC:Veranstaltungen für EmptyPockets.ch
REFRESH-INTERVAL;VALUE=DURATION:PT1H
X-Robots-Tag:noindex
X-PUBLISHED-TTL:PT1H
BEGIN:VTIMEZONE
TZID:Europe/Helsinki
BEGIN:DAYLIGHT
TZOFFSETFROM:+0200
TZOFFSETTO:+0300
TZNAME:EEST
DTSTART:20180325T010000
END:DAYLIGHT
BEGIN:STANDARD
TZOFFSETFROM:+0300
TZOFFSETTO:+0200
TZNAME:EET
DTSTART:20181028T010000
END:STANDARD
BEGIN:DAYLIGHT
TZOFFSETFROM:+0200
TZOFFSETTO:+0300
TZNAME:EEST
DTSTART:20190331T010000
END:DAYLIGHT
BEGIN:STANDARD
TZOFFSETFROM:+0300
TZOFFSETTO:+0200
TZNAME:EET
DTSTART:20191027T010000
END:STANDARD
BEGIN:DAYLIGHT
TZOFFSETFROM:+0200
TZOFFSETTO:+0300
TZNAME:EEST
DTSTART:20200329T010000
END:DAYLIGHT
BEGIN:STANDARD
TZOFFSETFROM:+0300
TZOFFSETTO:+0200
TZNAME:EET
DTSTART:20201025T010000
END:STANDARD
BEGIN:DAYLIGHT
TZOFFSETFROM:+0200
TZOFFSETTO:+0300
TZNAME:EEST
DTSTART:20210328T010000
END:DAYLIGHT
BEGIN:STANDARD
TZOFFSETFROM:+0300
TZOFFSETTO:+0200
TZNAME:EET
DTSTART:20211031T010000
END:STANDARD
BEGIN:DAYLIGHT
TZOFFSETFROM:+0200
TZOFFSETTO:+0300
TZNAME:EEST
DTSTART:20220327T010000
END:DAYLIGHT
BEGIN:STANDARD
TZOFFSETFROM:+0300
TZOFFSETTO:+0200
TZNAME:EET
DTSTART:20221030T010000
END:STANDARD
BEGIN:DAYLIGHT
TZOFFSETFROM:+0200
TZOFFSETTO:+0300
TZNAME:EEST
DTSTART:20230326T010000
END:DAYLIGHT
BEGIN:STANDARD
TZOFFSETFROM:+0300
TZOFFSETTO:+0200
TZNAME:EET
DTSTART:20231029T010000
END:STANDARD
BEGIN:DAYLIGHT
TZOFFSETFROM:+0200
TZOFFSETTO:+0300
TZNAME:EEST
DTSTART:20240331T010000
END:DAYLIGHT
BEGIN:STANDARD
TZOFFSETFROM:+0300
TZOFFSETTO:+0200
TZNAME:EET
DTSTART:20241027T010000
END:STANDARD
END:VTIMEZONE
BEGIN:VEVENT
DTSTART;TZID=Europe/Helsinki:20230909T193000
DTEND;TZID=Europe/Helsinki:20230909T220000
DTSTAMP:20260420T181512
CREATED:20230903T075834Z
LAST-MODIFIED:20230903T075938Z
UID:658-1694287800-1694296800@old.emptypockets.ch
SUMMARY:Empty Pockets im B70!
DESCRIPTION:Es ist wie ein nach Hause kommen: Empty Pockets spielen wieder live im B70 in Küssnacht am Rigi – wir freuen uns einen Abend voller Blues und Rock ins B70 zu bringen. \n\n\n\nBei schönem Wetter findet das Konzert draussen statt.
URL:https://old.emptypockets.ch/event/empty-pockets-im-b70/
LOCATION:B70 Music Bar\, Bahnhofstrasse 70\, Küssnacht am Rigi\, Schwyz\, 6403\, Schweiz
END:VEVENT
BEGIN:VEVENT
DTSTART;TZID=Europe/Helsinki:20230624T160000
DTEND;TZID=Europe/Helsinki:20230624T180000
DTSTAMP:20260420T181512
CREATED:20230502T191714Z
LAST-MODIFIED:20230620T195121Z
UID:641-1687622400-1687629600@old.emptypockets.ch
SUMMARY:Empty Pockets am Grümpelturnier Rothenburg
DESCRIPTION:Empty Pockets freuen sich am 24. Juni beim FC Rothenburg am Grümpelturnier beim Sponsoren-Apero die musikalische Unterhaltung zu übernehmen. \n\n\n\nDas Konzert ist öffentlich.
URL:https://old.emptypockets.ch/event/empty-pockets-am-gruempelturnier-rothenburg/
LOCATION:FC Rothenburg\, Chärnsmatt 5\, Rothenburg\, Luzern\, 6023\, Schweiz
CATEGORIES:Auftritt
END:VEVENT
BEGIN:VEVENT
DTSTART;TZID=Europe/Helsinki:20230524T193000
DTEND;TZID=Europe/Helsinki:20230524T220000
DTSTAMP:20260420T181512
CREATED:20230429T121902Z
LAST-MODIFIED:20230502T191749Z
UID:631-1684956600-1684965600@old.emptypockets.ch
SUMMARY:Empty Pockets im Gasthaus Badhof Meggen
DESCRIPTION:Empty Pockets spielen an den Live Summer Events im Gasthaus Badhof in Meggen.
URL:https://old.emptypockets.ch/event/empty-pockets-im-gasthaus-badhof-meggen/
LOCATION:Gasthaus Badhof Meggen\, Kreuzbuchweg 1\, Meggen\, 6045\, Schweiz
CATEGORIES:Auftritt
END:VEVENT
BEGIN:VEVENT
DTSTART;TZID=Europe/Helsinki:20220910T193000
DTEND;TZID=Europe/Helsinki:20220910T220000
DTSTAMP:20260420T181512
CREATED:20220824T201134Z
LAST-MODIFIED:20230903T080020Z
UID:620-1662838200-1662847200@old.emptypockets.ch
SUMMARY:Empty Pockets im B70!
DESCRIPTION:EmptyPockets spielen wieder im B70 in Küssnacht und zwar am 10. September. Wir freuen uns wie immer auf ein tolles Konzert in einer einmaligen Atmosphäre! \n\n\n\nKonzertbeginn bei schönem Wetter (draussen) ca. 19:30 Uhr.Konzertbeginn bei schlechtem Wetter ca. 20.30 Uhr.
URL:https://old.emptypockets.ch/event/emptypockets-im-b70-4/
LOCATION:B70 Music Bar\, Bahnhofstrasse 70\, Küssnacht am Rigi\, Schwyz\, 6403\, Schweiz
CATEGORIES:Auftritt
END:VEVENT
BEGIN:VEVENT
DTSTART;TZID=Europe/Helsinki:20211106T210000
DTEND;TZID=Europe/Helsinki:20211106T233000
DTSTAMP:20260420T181512
CREATED:20210905T094332Z
LAST-MODIFIED:20231220T164718Z
UID:574-1636232400-1636241400@old.emptypockets.ch
SUMMARY:Empty Pockets live im Cheers
DESCRIPTION:Empty Pockets live im Cheers in Baar!\n\nEmpty Pockets spielen am 06.11.2021 zum ersten Mal im Cheers in Baar – wir freuen uns riesig!\n\nKonzertbeginn: 21:00 Uhr\nEintritt: frei\, Kollekte
URL:https://old.emptypockets.ch/event/emptypockets-live-im-cheers/
LOCATION:Cheers Baar\, Dorfstrasse 34\, Baar\, Zug\, 6340\, Schweiz
CATEGORIES:Auftritt
END:VEVENT
BEGIN:VEVENT
DTSTART;TZID=Europe/Helsinki:20210904T200000
DTEND;TZID=Europe/Helsinki:20210904T220000
DTSTAMP:20260420T181512
CREATED:20210905T110645Z
LAST-MODIFIED:20230429T122310Z
UID:604-1630785600-1630792800@old.emptypockets.ch
SUMMARY:EmptyPockets im B70
DESCRIPTION:Nach zwei Jahren Konzertpause treten Empty Pockets wieder live auf – und das im legendären B70 in Küssnacht! Die gezwungene Konzertpause wurde intensiv genutzt\, um neue Songs einzustudieren – sogar ein Mundart-Klassiker hat’s neu ins Repertoire geschafft! Empty Pockets freuen sich auch\, den ersten gemeinsamen Auftritt mit Flo zu bestreiten.
URL:https://old.emptypockets.ch/event/emptypockets-im-b70-3/
LOCATION:B70 Music Bar\, Bahnhofstrasse 70\, Küssnacht am Rigi\, Schwyz\, 6403\, Schweiz
CATEGORIES:Auftritt
END:VEVENT
BEGIN:VEVENT
DTSTART;TZID=Europe/Helsinki:20190928T203000
DTEND;TZID=Europe/Helsinki:20190928T230000
DTSTAMP:20260420T181512
CREATED:20190421T090617Z
LAST-MODIFIED:20230429T122253Z
UID:521-1569702600-1569711600@old.emptypockets.ch
SUMMARY:EmptyPockets live in Seppi's Mampferia in Möhlin AG
DESCRIPTION:EmptyPockets live in Seppi’s Mampferia!
URL:https://old.emptypockets.ch/event/emptypockets-live-in-seppis-mampferia-in-moehlin-ag/
LOCATION:Seppi’s Mampferia\, Industriestrasse 24\, Möhlin\, 4313\, Schweiz
CATEGORIES:Auftritt
END:VEVENT
BEGIN:VEVENT
DTSTART;TZID=Europe/Helsinki:20190921T210000
DTEND;TZID=Europe/Helsinki:20190921T233000
DTSTAMP:20260420T181512
CREATED:20190419T115330Z
LAST-MODIFIED:20231218T151924Z
UID:505-1569099600-1569108600@old.emptypockets.ch
SUMMARY:EmptyPockets im B70
DESCRIPTION:EmptyPockets live in der B70 Music Bar in Küssnacht am Rigi.
URL:https://old.emptypockets.ch/event/emptypockets-im-b70/
LOCATION:B70 Music Bar\, Bahnhofstrasse 70\, Küssnacht am Rigi\, Schwyz\, 6403\, Schweiz
CATEGORIES:Auftritt
END:VEVENT
END:VCALENDAR